BEGIN:VCALENDAR
VERSION:2.0
PRODID:-//Seatoun School - ECPv6.8.3//NONSGML v1.0//EN
CALSCALE:GREGORIAN
METHOD:PUBLISH
X-WR-CALNAME:Seatoun School
X-ORIGINAL-URL:https://seatoun.school.nz
X-WR-CALDESC:Events for Seatoun School
REFRESH-INTERVAL;VALUE=DURATION:PT1H
X-Robots-Tag:noindex
X-PUBLISHED-TTL:PT1H
BEGIN:VTIMEZONE
TZID:Pacific/Auckland
BEGIN:STANDARD
TZOFFSETFROM:+1300
TZOFFSETTO:+1200
TZNAME:NZST
DTSTART:20200404T140000
END:STANDARD
BEGIN:DAYLIGHT
TZOFFSETFROM:+1200
TZOFFSETTO:+1300
TZNAME:NZDT
DTSTART:20200926T140000
END:DAYLIGHT
END:VTIMEZONE
BEGIN:VEVENT
DTSTART;VALUE=DATE:20200810
DTEND;VALUE=DATE:20200811
DTSTAMP:20260424T114014
CREATED:20200713T174602Z
LAST-MODIFIED:20210112T092718Z
UID:8619-1597017600-1597103999@seatoun.school.nz
SUMMARY:WELLINGTON CENTRAL ZONE Chess Power Regional Chess Tournament
DESCRIPTION:Venue: Berhampore School\, 105 Britomart Street\, Berhampore\, Wellington\nDate: Monday 10 August\, 2020\nTime: 9:00am – 2:15pm (aim to arrive at the venue at 8:45am)\nDivisions: Primary\, Intermediate and Secondary and Rookies division for novices (years 1-6 only)\nFormat: 7 round Swiss (everybody plays 7 games)\nTime Control: 15 minutes per player.
URL:https://seatoun.school.nz/event/wellington-central-zone-chess-power-regional-chess-tournament/
END:VEVENT
BEGIN:VEVENT
DTSTART;TZID=Pacific/Auckland:20200810T193000
DTEND;TZID=Pacific/Auckland:20200810T203000
DTSTAMP:20260424T114014
CREATED:20200629T163917Z
LAST-MODIFIED:20210112T092718Z
UID:8532-1597087800-1597091400@seatoun.school.nz
SUMMARY:FoSS meeting
DESCRIPTION:
URL:https://seatoun.school.nz/event/foss-meeting/
END:VEVENT
BEGIN:VEVENT
DTSTART;VALUE=DATE:20200811
DTEND;VALUE=DATE:20200812
DTSTAMP:20260424T114014
CREATED:20200629T163917Z
LAST-MODIFIED:20210112T092718Z
UID:8533-1597104000-1597190399@seatoun.school.nz
SUMMARY:Y5-8 swimming
DESCRIPTION:
URL:https://seatoun.school.nz/event/y5-8-swimming-2/
END:VEVENT
BEGIN:VEVENT
DTSTART;VALUE=DATE:20200812
DTEND;VALUE=DATE:20200813
DTSTAMP:20260424T114014
CREATED:20200525T021950Z
LAST-MODIFIED:20210112T092718Z
UID:8289-1597190400-1597276799@seatoun.school.nz
SUMMARY:EZ Floorball
DESCRIPTION:
URL:https://seatoun.school.nz/event/ez-floorball/
END:VEVENT
BEGIN:VEVENT
DTSTART;VALUE=DATE:20200812
DTEND;VALUE=DATE:20200813
DTSTAMP:20260424T114014
CREATED:20200724T180858Z
LAST-MODIFIED:20210112T092718Z
UID:8642-1597190400-1597276799@seatoun.school.nz
SUMMARY:Stan Chan Calligraphy Workshops Year 4
DESCRIPTION:
URL:https://seatoun.school.nz/event/stan-chan-calligraphy-workshops-year-4/
END:VEVENT
BEGIN:VEVENT
DTSTART;VALUE=DATE:20200814
DTEND;VALUE=DATE:20200815
DTSTAMP:20260424T114014
CREATED:20200525T021950Z
LAST-MODIFIED:20210112T092718Z
UID:8290-1597363200-1597449599@seatoun.school.nz
SUMMARY:Samuel Marsden Collegiate Open Day
DESCRIPTION:
URL:https://seatoun.school.nz/event/samuel-marsden-collegiate-open-day/
END:VEVENT
BEGIN:VEVENT
DTSTART;VALUE=DATE:20200818
DTEND;VALUE=DATE:20200819
DTSTAMP:20260424T114014
CREATED:20200525T021951Z
LAST-MODIFIED:20200816T023117Z
UID:8291-1597708800-1597795199@seatoun.school.nz
SUMMARY:Inter Zone Cross Country Y4-8 (Grenada North Park)
DESCRIPTION:
URL:https://seatoun.school.nz/event/inter-zone-cross-country-y4-8-grenada-north-park/
END:VEVENT
BEGIN:VEVENT
DTSTART;VALUE=DATE:20200818
DTEND;VALUE=DATE:20200819
DTSTAMP:20260424T114014
CREATED:20200629T163917Z
LAST-MODIFIED:20210112T092718Z
UID:8535-1597708800-1597795199@seatoun.school.nz
SUMMARY:Y5-8 swimming
DESCRIPTION:
URL:https://seatoun.school.nz/event/y5-8-swimming-3/
END:VEVENT
BEGIN:VEVENT
DTSTART;TZID=Pacific/Auckland:20200818T121500
DTEND;TZID=Pacific/Auckland:20200818T123000
DTSTAMP:20260424T114014
CREATED:20200629T163918Z
LAST-MODIFIED:20210112T092718Z
UID:8536-1597752900-1597753800@seatoun.school.nz
SUMMARY:Fire Drill
DESCRIPTION:
URL:https://seatoun.school.nz/event/fire-drill/
END:VEVENT
BEGIN:VEVENT
DTSTART;VALUE=DATE:20200819
DTEND;VALUE=DATE:20200820
DTSTAMP:20260424T114014
CREATED:20200629T163917Z
LAST-MODIFIED:20210112T092718Z
UID:8534-1597795200-1597881599@seatoun.school.nz
SUMMARY:ICAS Science 2020
DESCRIPTION:
URL:https://seatoun.school.nz/event/icas-science-2020/
END:VEVENT
BEGIN:VEVENT
DTSTART;VALUE=DATE:20200820
DTEND;VALUE=DATE:20200821
DTSTAMP:20260424T114014
CREATED:20200525T021951Z
LAST-MODIFIED:20200817T025331Z
UID:8292-1597881600-1597967999@seatoun.school.nz
SUMMARY:pp date Inter Zone Cross Country Y4-8
DESCRIPTION:
URL:https://seatoun.school.nz/event/pp-date-inter-zone-cross-country-y4-8/
END:VEVENT
BEGIN:VEVENT
DTSTART;TZID=Pacific/Auckland:20200820T190000
DTEND;TZID=Pacific/Auckland:20200820T204500
DTSTAMP:20260424T114014
CREATED:20200525T021951Z
LAST-MODIFIED:20210112T092718Z
UID:8293-1597950000-1597956300@seatoun.school.nz
SUMMARY:BOT Meeting in Library
DESCRIPTION:
URL:https://seatoun.school.nz/event/bot-meeting-in-library-3/
LOCATION:Library
END:VEVENT
BEGIN:VEVENT
DTSTART;TZID=Pacific/Auckland:20200821T090000
DTEND;TZID=Pacific/Auckland:20200821T100000
DTSTAMP:20260424T114014
CREATED:20200629T163918Z
LAST-MODIFIED:20210112T092718Z
UID:8537-1598000400-1598004000@seatoun.school.nz
SUMMARY:Hui Y7-8 - CANCELLED
DESCRIPTION:
URL:https://seatoun.school.nz/event/hui-y7-8/
END:VEVENT
BEGIN:VEVENT
DTSTART;VALUE=DATE:20200824
DTEND;VALUE=DATE:20200825
DTSTAMP:20260424T114014
CREATED:20200629T163918Z
LAST-MODIFIED:20210112T092718Z
UID:8538-1598227200-1598313599@seatoun.school.nz
SUMMARY:ICAS Digital Tech 2020
DESCRIPTION:
URL:https://seatoun.school.nz/event/icas-digital-tech-2020/
END:VEVENT
BEGIN:VEVENT
DTSTART;VALUE=DATE:20200825
DTEND;VALUE=DATE:20200826
DTSTAMP:20260424T114014
CREATED:20200629T163918Z
LAST-MODIFIED:20210112T092719Z
UID:8539-1598313600-1598399999@seatoun.school.nz
SUMMARY:IZ Cross Country Y4-8
DESCRIPTION:
URL:https://seatoun.school.nz/event/2nd-pp-date-iz-cross-country-y4-8/
END:VEVENT
BEGIN:VEVENT
DTSTART;VALUE=DATE:20200825
DTEND;VALUE=DATE:20200826
DTSTAMP:20260424T114014
CREATED:20200629T163918Z
LAST-MODIFIED:20210112T092719Z
UID:8540-1598313600-1598399999@seatoun.school.nz
SUMMARY:Y5-8 swimming
DESCRIPTION:
URL:https://seatoun.school.nz/event/y5-8-swimming-4/
END:VEVENT
BEGIN:VEVENT
DTSTART;TZID=Pacific/Auckland:20200825T183000
DTEND;TZID=Pacific/Auckland:20200825T203000
DTSTAMP:20260424T114014
CREATED:20200629T163918Z
LAST-MODIFIED:20210112T092718Z
UID:8541-1598380200-1598387400@seatoun.school.nz
SUMMARY:Y5-8 Speeches and Poetry evening (postponed\, new date TBC)
DESCRIPTION:
URL:https://seatoun.school.nz/event/y5-8-speeches-and-poetry-evening/
END:VEVENT
BEGIN:VEVENT
DTSTART;VALUE=DATE:20200826
DTEND;VALUE=DATE:20200827
DTSTAMP:20260424T114014
CREATED:20200629T163918Z
LAST-MODIFIED:20210112T092719Z
UID:8542-1598400000-1598486399@seatoun.school.nz
SUMMARY:ICAS English 2020
DESCRIPTION:
URL:https://seatoun.school.nz/event/icas-english-2020/
END:VEVENT
BEGIN:VEVENT
DTSTART;VALUE=DATE:20200827
DTEND;VALUE=DATE:20200828
DTSTAMP:20260424T114014
CREATED:20200818T030303Z
LAST-MODIFIED:20200825T034736Z
UID:8715-1598486400-1598572799@seatoun.school.nz
SUMMARY:pp date for Inter Zone Cross Country
DESCRIPTION:
URL:https://seatoun.school.nz/event/pp-date-for-inter-zone-cross-country/
END:VEVENT
BEGIN:VEVENT
DTSTART;VALUE=DATE:20200831
DTEND;VALUE=DATE:20200908
DTSTAMP:20260424T114014
CREATED:20200525T021951Z
LAST-MODIFIED:20200715T174557Z
UID:8296-1598832000-1599523199@seatoun.school.nz
SUMMARY:Life Ed Year 0 - 6
DESCRIPTION:
URL:https://seatoun.school.nz/event/life-ed-year-0-6/
END:VEVENT
BEGIN:VEVENT
DTSTART;VALUE=DATE:20200831
DTEND;VALUE=DATE:20200901
DTSTAMP:20260424T114014
CREATED:20200629T163918Z
LAST-MODIFIED:20210112T092719Z
UID:8543-1598832000-1598918399@seatoun.school.nz
SUMMARY:ICAS Maths 2020
DESCRIPTION:
URL:https://seatoun.school.nz/event/icas-maths-2020/
END:VEVENT
BEGIN:VEVENT
DTSTART;VALUE=DATE:20200903
DTEND;VALUE=DATE:20200904
DTSTAMP:20260424T114014
CREATED:20200629T163918Z
LAST-MODIFIED:20210112T092719Z
UID:8545-1599091200-1599177599@seatoun.school.nz
SUMMARY:ICAS Spelling 2020
DESCRIPTION:
URL:https://seatoun.school.nz/event/icas-spelling-2020/
END:VEVENT
BEGIN:VEVENT
DTSTART;VALUE=DATE:20200904
DTEND;VALUE=DATE:20200905
DTSTAMP:20260424T114014
CREATED:20200525T021951Z
LAST-MODIFIED:20210112T092719Z
UID:8294-1599177600-1599263999@seatoun.school.nz
SUMMARY:Ballot Applications close midday
DESCRIPTION:
URL:https://seatoun.school.nz/event/ballot-applications-close-midday/
END:VEVENT
BEGIN:VEVENT
DTSTART;VALUE=DATE:20200904
DTEND;VALUE=DATE:20200905
DTSTAMP:20260424T114014
CREATED:20200629T163918Z
LAST-MODIFIED:20210112T092719Z
UID:8544-1599177600-1599263999@seatoun.school.nz
SUMMARY:Hui Year 0 - 4
DESCRIPTION:
URL:https://seatoun.school.nz/event/hui-1-2/
END:VEVENT
BEGIN:VEVENT
DTSTART;TZID=Pacific/Auckland:20200907T080000
DTEND;TZID=Pacific/Auckland:20200907T164500
DTSTAMP:20260424T114014
CREATED:20200525T021951Z
LAST-MODIFIED:20210112T092719Z
UID:8297-1599465600-1599497100@seatoun.school.nz
SUMMARY:Teacher Only Day - School Closed for Instruction
DESCRIPTION:
URL:https://seatoun.school.nz/event/teacher-only-day-school-closed-for-instruction/
END:VEVENT
BEGIN:VEVENT
DTSTART;VALUE=DATE:20200908
DTEND;VALUE=DATE:20200909
DTSTAMP:20260424T114014
CREATED:20200525T021951Z
LAST-MODIFIED:20210112T092719Z
UID:8295-1599523200-1599609599@seatoun.school.nz
SUMMARY:Regional Cross Country (Harcourt Park)
DESCRIPTION:
URL:https://seatoun.school.nz/event/regional-cross-country-harcourt-park/
END:VEVENT
BEGIN:VEVENT
DTSTART;VALUE=DATE:20200910
DTEND;VALUE=DATE:20200911
DTSTAMP:20260424T114014
CREATED:20200525T021951Z
LAST-MODIFIED:20210112T092719Z
UID:8299-1599696000-1599782399@seatoun.school.nz
SUMMARY:pp date Regional Cross Country
DESCRIPTION:
URL:https://seatoun.school.nz/event/pp-date-regional-cross-country/
END:VEVENT
BEGIN:VEVENT
DTSTART;TZID=Pacific/Auckland:20200910T130000
DTEND;TZID=Pacific/Auckland:20200910T133000
DTSTAMP:20260424T114014
CREATED:20200629T163918Z
LAST-MODIFIED:20210112T092719Z
UID:8546-1599742800-1599744600@seatoun.school.nz
SUMMARY:Earthquake & Tsunami Drill
DESCRIPTION:
URL:https://seatoun.school.nz/event/earthquake-tsunami-drill/
END:VEVENT
BEGIN:VEVENT
DTSTART;VALUE=DATE:20200911
DTEND;VALUE=DATE:20200912
DTSTAMP:20260424T114014
CREATED:20200525T021951Z
LAST-MODIFIED:20210112T092719Z
UID:8298-1599782400-1599868799@seatoun.school.nz
SUMMARY:Ballot drawn
DESCRIPTION:
URL:https://seatoun.school.nz/event/ballot-drawn/
END:VEVENT
BEGIN:VEVENT
DTSTART;VALUE=DATE:20200911
DTEND;VALUE=DATE:20200912
DTSTAMP:20260424T114014
CREATED:20200819T031621Z
LAST-MODIFIED:20210112T092719Z
UID:8723-1599782400-1599868799@seatoun.school.nz
SUMMARY:FoSS - Hell Pizza Lunch
DESCRIPTION:
URL:https://seatoun.school.nz/event/foss-hell-pizza-lunch/
END:VEVENT
END:VCALENDAR