BEGIN:VCALENDAR
VERSION:2.0
PRODID:-//Seatoun School - ECPv6.8.3//NONSGML v1.0//EN
CALSCALE:GREGORIAN
METHOD:PUBLISH
X-WR-CALNAME:Seatoun School
X-ORIGINAL-URL:https://seatoun.school.nz
X-WR-CALDESC:Events for Seatoun School
REFRESH-INTERVAL;VALUE=DURATION:PT1H
X-Robots-Tag:noindex
X-PUBLISHED-TTL:PT1H
BEGIN:VTIMEZONE
TZID:Pacific/Auckland
BEGIN:STANDARD
TZOFFSETFROM:+1300
TZOFFSETTO:+1200
TZNAME:NZST
DTSTART:20210403T140000
END:STANDARD
BEGIN:DAYLIGHT
TZOFFSETFROM:+1200
TZOFFSETTO:+1300
TZNAME:NZDT
DTSTART:20210925T140000
END:DAYLIGHT
END:VTIMEZONE
BEGIN:VEVENT
DTSTART;VALUE=DATE:20211025
DTEND;VALUE=DATE:20211026
DTSTAMP:20260425T004826
CREATED:20201110T110323Z
LAST-MODIFIED:20240229T213313Z
UID:9011-1635120000-1635206399@seatoun.school.nz
SUMMARY:Week 2
DESCRIPTION:
URL:https://seatoun.school.nz/event/week-2-4/
END:VEVENT
BEGIN:VEVENT
DTSTART;TZID=Pacific/Auckland:20211025T080000
DTEND;TZID=Pacific/Auckland:20211025T163000
DTSTAMP:20260425T004826
CREATED:20200525T021955Z
LAST-MODIFIED:20240229T213313Z
UID:8344-1635148800-1635179400@seatoun.school.nz
SUMMARY:Labour Day - school closed today
DESCRIPTION:
URL:https://seatoun.school.nz/event/labour-day-school-closed-today/
END:VEVENT
BEGIN:VEVENT
DTSTART;VALUE=DATE:20211026
DTEND;VALUE=DATE:20211027
DTSTAMP:20260425T004826
CREATED:20240229T213313Z
LAST-MODIFIED:20240229T213313Z
UID:10905-1635206400-1635292799@seatoun.school.nz
SUMMARY:Teacher Only Day - School Closed
DESCRIPTION:
URL:https://seatoun.school.nz/event/teacher-only-day-school-closed-2/
END:VEVENT
BEGIN:VEVENT
DTSTART;TZID=Pacific/Auckland:20211026T080000
DTEND;TZID=Pacific/Auckland:20211026T150000
DTSTAMP:20260425T004826
CREATED:20240229T213313Z
LAST-MODIFIED:20240229T213313Z
UID:10904-1635235200-1635260400@seatoun.school.nz
SUMMARY:Teacher Only Day - School Closed
DESCRIPTION:
URL:https://seatoun.school.nz/event/teacher-only-day-school-closed/
END:VEVENT
BEGIN:VEVENT
DTSTART;VALUE=DATE:20211027
DTEND;VALUE=DATE:20211028
DTSTAMP:20260425T004826
CREATED:20240229T213313Z
LAST-MODIFIED:20240229T213313Z
UID:10906-1635292800-1635379199@seatoun.school.nz
SUMMARY:ICAS Maths
DESCRIPTION:
URL:https://seatoun.school.nz/event/icas-maths-2/
END:VEVENT
BEGIN:VEVENT
DTSTART;TZID=Pacific/Auckland:20211028T093000
DTEND;TZID=Pacific/Auckland:20211028T100000
DTSTAMP:20260425T004826
CREATED:20210526T050316Z
LAST-MODIFIED:20240229T213313Z
UID:9734-1635413400-1635415200@seatoun.school.nz
SUMMARY:New Zealand Shake out - Earthquake drill
DESCRIPTION:
URL:https://seatoun.school.nz/event/new-zealand-shake-out-earthquake-drill/
END:VEVENT
BEGIN:VEVENT
DTSTART;TZID=Pacific/Auckland:20211028T180000
DTEND;TZID=Pacific/Auckland:20211028T190000
DTSTAMP:20260425T004826
CREATED:20240229T213313Z
LAST-MODIFIED:20240229T213313Z
UID:10907-1635444000-1635447600@seatoun.school.nz
SUMMARY:Year 5/6 camp information meeting
DESCRIPTION:
URL:https://seatoun.school.nz/event/year-5-6-camp-information-meeting/
END:VEVENT
BEGIN:VEVENT
DTSTART;TZID=Pacific/Auckland:20211028T190000
DTEND;TZID=Pacific/Auckland:20211028T203000
DTSTAMP:20260425T004826
CREATED:20210730T100614Z
LAST-MODIFIED:20210826T004245Z
UID:9974-1635447600-1635453000@seatoun.school.nz
SUMMARY:Cyber Safety Parenting Course
DESCRIPTION:
URL:https://seatoun.school.nz/event/potential-parenting-course/
END:VEVENT
BEGIN:VEVENT
DTSTART;VALUE=DATE:20211101
DTEND;VALUE=DATE:20211102
DTSTAMP:20260425T004826
CREATED:20201110T110323Z
LAST-MODIFIED:20240229T213313Z
UID:9012-1635724800-1635811199@seatoun.school.nz
SUMMARY:Week 3
DESCRIPTION:
URL:https://seatoun.school.nz/event/week-3-4/
END:VEVENT
BEGIN:VEVENT
DTSTART;TZID=Pacific/Auckland:20211101T193000
DTEND;TZID=Pacific/Auckland:20211101T203000
DTSTAMP:20260425T004826
CREATED:20240229T213313Z
LAST-MODIFIED:20240229T213313Z
UID:10908-1635795000-1635798600@seatoun.school.nz
SUMMARY:Amended FoSS Meeting date (1 Nov)
DESCRIPTION:
URL:https://seatoun.school.nz/event/amended-foss-meeting-date-1-nov/
END:VEVENT
BEGIN:VEVENT
DTSTART;TZID=Pacific/Auckland:20211102T144500
DTEND;TZID=Pacific/Auckland:20211102T154500
DTSTAMP:20260425T004826
CREATED:20240229T213313Z
LAST-MODIFIED:20240229T213313Z
UID:10909-1635864300-1635867900@seatoun.school.nz
SUMMARY:Distribute Centenary Books
DESCRIPTION:
URL:https://seatoun.school.nz/event/distribute-centenary-books/
END:VEVENT
BEGIN:VEVENT
DTSTART;TZID=Pacific/Auckland:20211107T080000
DTEND;TZID=Pacific/Auckland:20211107T143000
DTSTAMP:20260425T004826
CREATED:20240229T213314Z
LAST-MODIFIED:20240229T213314Z
UID:10910-1636272000-1636295400@seatoun.school.nz
SUMMARY:Orienteering Wellington using school grounds as base for event
DESCRIPTION:
URL:https://seatoun.school.nz/event/orienteering-wellington-using-school-grounds-as-base-for-event/
END:VEVENT
BEGIN:VEVENT
DTSTART;VALUE=DATE:20211108
DTEND;VALUE=DATE:20211109
DTSTAMP:20260425T004826
CREATED:20201110T110323Z
LAST-MODIFIED:20240229T213314Z
UID:9013-1636329600-1636415999@seatoun.school.nz
SUMMARY:Week 4
DESCRIPTION:
URL:https://seatoun.school.nz/event/week-4-5/
END:VEVENT
BEGIN:VEVENT
DTSTART;TZID=Pacific/Auckland:20211109T090000
DTEND;TZID=Pacific/Auckland:20211109T150000
DTSTAMP:20260425T004826
CREATED:20240229T213314Z
LAST-MODIFIED:20240229T213314Z
UID:10911-1636448400-1636470000@seatoun.school.nz
SUMMARY:Favourite Book Character Dress Up Day
DESCRIPTION:
URL:https://seatoun.school.nz/event/favourite-book-character-dress-up-day-2/
END:VEVENT
BEGIN:VEVENT
DTSTART;VALUE=DATE:20211110
DTEND;VALUE=DATE:20211111
DTSTAMP:20260425T004826
CREATED:20201209T135756Z
LAST-MODIFIED:20210826T004246Z
UID:9166-1636502400-1636588799@seatoun.school.nz
SUMMARY:EZ Athletics Y4-8\, Newtown Park pp 17th
DESCRIPTION:
URL:https://seatoun.school.nz/event/ez-athletics-y4-8-newtown-park-pp-17th/
END:VEVENT
BEGIN:VEVENT
DTSTART;VALUE=DATE:20211115
DTEND;VALUE=DATE:20211116
DTSTAMP:20260425T004826
CREATED:20201110T110323Z
LAST-MODIFIED:20240229T213314Z
UID:9014-1636934400-1637020799@seatoun.school.nz
SUMMARY:Week 5
DESCRIPTION:
URL:https://seatoun.school.nz/event/week-5-5/
END:VEVENT
BEGIN:VEVENT
DTSTART;VALUE=DATE:20211117
DTEND;VALUE=DATE:20211118
DTSTAMP:20260425T004826
CREATED:20201209T135756Z
LAST-MODIFIED:20210826T004246Z
UID:9167-1637107200-1637193599@seatoun.school.nz
SUMMARY:pp EZ Athletics
DESCRIPTION:
URL:https://seatoun.school.nz/event/pp-ez-athletics/
END:VEVENT
BEGIN:VEVENT
DTSTART;TZID=Pacific/Auckland:20211117T090000
DTEND;TZID=Pacific/Auckland:20211117T150000
DTSTAMP:20260425T004826
CREATED:20210304T224724Z
LAST-MODIFIED:20240229T213314Z
UID:9390-1637139600-1637161200@seatoun.school.nz
SUMMARY:Rongotai College Experience Day
DESCRIPTION:
URL:https://seatoun.school.nz/event/rongotai-college-experience-day/
END:VEVENT
BEGIN:VEVENT
DTSTART;VALUE=DATE:20211122
DTEND;VALUE=DATE:20211123
DTSTAMP:20260425T004826
CREATED:20201110T110323Z
LAST-MODIFIED:20240229T213314Z
UID:9015-1637539200-1637625599@seatoun.school.nz
SUMMARY:Week 6
DESCRIPTION:
URL:https://seatoun.school.nz/event/week-6-5/
END:VEVENT
BEGIN:VEVENT
DTSTART;TZID=Pacific/Auckland:20211123T183000
DTEND;TZID=Pacific/Auckland:20211123T193000
DTSTAMP:20260425T004826
CREATED:20240229T213314Z
LAST-MODIFIED:20240229T213314Z
UID:10912-1637692200-1637695800@seatoun.school.nz
SUMMARY:Year 8 Dance Lesson Rooms 10\, 11 and half of 12
DESCRIPTION:
URL:https://seatoun.school.nz/event/year-8-dance-lesson-rooms-10-11-and-half-of-12/
END:VEVENT
BEGIN:VEVENT
DTSTART;TZID=Pacific/Auckland:20211123T193000
DTEND;TZID=Pacific/Auckland:20211123T203000
DTSTAMP:20260425T004826
CREATED:20240229T213314Z
LAST-MODIFIED:20240229T213314Z
UID:10913-1637695800-1637699400@seatoun.school.nz
SUMMARY:Year 8 Dance Lesson - Group 2 - Rooms 13\, 14 and half of 12
DESCRIPTION:
URL:https://seatoun.school.nz/event/year-8-dance-lesson-group-2-rooms-13-14-and-half-of-12/
END:VEVENT
BEGIN:VEVENT
DTSTART;TZID=Pacific/Auckland:20211126T090000
DTEND;TZID=Pacific/Auckland:20211126T100000
DTSTAMP:20260425T004826
CREATED:20240229T213314Z
LAST-MODIFIED:20240229T213314Z
UID:10914-1637917200-1637920800@seatoun.school.nz
SUMMARY:School Hui
DESCRIPTION:
URL:https://seatoun.school.nz/event/school-hui/
END:VEVENT
BEGIN:VEVENT
DTSTART;VALUE=DATE:20211129
DTEND;VALUE=DATE:20211130
DTSTAMP:20260425T004826
CREATED:20201110T110323Z
LAST-MODIFIED:20240229T213314Z
UID:9016-1638144000-1638230399@seatoun.school.nz
SUMMARY:Week 7
DESCRIPTION:
URL:https://seatoun.school.nz/event/week-7-5/
END:VEVENT
BEGIN:VEVENT
DTSTART;VALUE=DATE:20211129
DTEND;VALUE=DATE:20211202
DTSTAMP:20260425T004826
CREATED:20210325T001829Z
LAST-MODIFIED:20240229T213314Z
UID:9462-1638144000-1638403199@seatoun.school.nz
SUMMARY:Year 7 Camp (Mon and Tues night)
DESCRIPTION:
URL:https://seatoun.school.nz/event/year-7-camp-mon-and-tues-night/
END:VEVENT
BEGIN:VEVENT
DTSTART;VALUE=DATE:20211129
DTEND;VALUE=DATE:20211204
DTSTAMP:20260425T004826
CREATED:20210325T001829Z
LAST-MODIFIED:20240229T213314Z
UID:9463-1638144000-1638575999@seatoun.school.nz
SUMMARY:Year 8 Camp
DESCRIPTION:
URL:https://seatoun.school.nz/event/year-8-camp/
END:VEVENT
BEGIN:VEVENT
DTSTART;VALUE=DATE:20211130
DTEND;VALUE=DATE:20211201
DTSTAMP:20260425T004826
CREATED:20201209T135756Z
LAST-MODIFIED:20210826T004246Z
UID:9168-1638230400-1638316799@seatoun.school.nz
SUMMARY:Inter Zone Athletics\, Newtown. pp 2nd Dec
DESCRIPTION:
URL:https://seatoun.school.nz/event/inter-zone-athletics-newtown-pp-2nd-dec/
END:VEVENT
BEGIN:VEVENT
DTSTART;VALUE=DATE:20211202
DTEND;VALUE=DATE:20211203
DTSTAMP:20260425T004826
CREATED:20201209T135756Z
LAST-MODIFIED:20210826T004246Z
UID:9169-1638403200-1638489599@seatoun.school.nz
SUMMARY:pp IZ Athletics
DESCRIPTION:
URL:https://seatoun.school.nz/event/pp-iz-athletics/
END:VEVENT
BEGIN:VEVENT
DTSTART;VALUE=DATE:20211206
DTEND;VALUE=DATE:20211207
DTSTAMP:20260425T004826
CREATED:20201110T110323Z
LAST-MODIFIED:20240229T213314Z
UID:9017-1638748800-1638835199@seatoun.school.nz
SUMMARY:Week 8
DESCRIPTION:
URL:https://seatoun.school.nz/event/week-8-5/
END:VEVENT
BEGIN:VEVENT
DTSTART;VALUE=DATE:20211207
DTEND;VALUE=DATE:20211208
DTSTAMP:20260425T004826
CREATED:20201209T135756Z
LAST-MODIFIED:20240229T213314Z
UID:9170-1638835200-1638921599@seatoun.school.nz
SUMMARY:Regional Athletics\, Masterton  - Cancelled
DESCRIPTION:
URL:https://seatoun.school.nz/event/regional-athletics-masterton-pp-9th/
END:VEVENT
BEGIN:VEVENT
DTSTART;TZID=Pacific/Auckland:20211207T183000
DTEND;TZID=Pacific/Auckland:20211207T193000
DTSTAMP:20260425T004826
CREATED:20240229T213314Z
LAST-MODIFIED:20240229T213314Z
UID:10918-1638901800-1638905400@seatoun.school.nz
SUMMARY:Year 8 Dance Lesson 2
DESCRIPTION:
URL:https://seatoun.school.nz/event/year-8-dance-lesson-2/
END:VEVENT
END:VCALENDAR