BEGIN:VCALENDAR
VERSION:2.0
PRODID:-//Seatoun School - ECPv6.8.3//NONSGML v1.0//EN
CALSCALE:GREGORIAN
METHOD:PUBLISH
X-WR-CALNAME:Seatoun School
X-ORIGINAL-URL:https://seatoun.school.nz
X-WR-CALDESC:Events for Seatoun School
REFRESH-INTERVAL;VALUE=DURATION:PT1H
X-Robots-Tag:noindex
X-PUBLISHED-TTL:PT1H
BEGIN:VTIMEZONE
TZID:Pacific/Auckland
BEGIN:STANDARD
TZOFFSETFROM:+1300
TZOFFSETTO:+1200
TZNAME:NZST
DTSTART:20230401T140000
END:STANDARD
BEGIN:DAYLIGHT
TZOFFSETFROM:+1200
TZOFFSETTO:+1300
TZNAME:NZDT
DTSTART:20230923T140000
END:DAYLIGHT
END:VTIMEZONE
BEGIN:VEVENT
DTSTART;VALUE=DATE:20230426
DTEND;VALUE=DATE:20230427
DTSTAMP:20260426T034317
CREATED:20240229T213330Z
LAST-MODIFIED:20240229T213330Z
UID:11144-1682467200-1682553599@seatoun.school.nz
SUMMARY:Auditions for School Show
DESCRIPTION:
URL:https://seatoun.school.nz/event/auditions-for-school-show-2/
END:VEVENT
BEGIN:VEVENT
DTSTART;VALUE=DATE:20230426
DTEND;VALUE=DATE:20230427
DTSTAMP:20260426T034317
CREATED:20240229T213330Z
LAST-MODIFIED:20240229T213330Z
UID:11145-1682467200-1682553599@seatoun.school.nz
SUMMARY:Start Primary and intermediate Term 2
DESCRIPTION:
URL:https://seatoun.school.nz/event/start-primary-and-intermediate-term-2/
END:VEVENT
BEGIN:VEVENT
DTSTART;VALUE=DATE:20230425
DTEND;VALUE=DATE:20230426
DTSTAMP:20260426T034317
CREATED:20240229T213330Z
LAST-MODIFIED:20240229T213330Z
UID:11146-1682380800-1682467199@seatoun.school.nz
SUMMARY:Anzac Day
DESCRIPTION:
URL:https://seatoun.school.nz/event/anzac-day/
END:VEVENT
BEGIN:VEVENT
DTSTART;TZID=Pacific/Auckland:20230424T150000
DTEND;TZID=Pacific/Auckland:20230424T160000
DTSTAMP:20260426T034317
CREATED:20240229T213330Z
LAST-MODIFIED:20240229T213330Z
UID:11138-1682348400-1682352000@seatoun.school.nz
SUMMARY:French Lessons weekly in the Library
DESCRIPTION:
URL:https://seatoun.school.nz/event/french-lessons-weekly-in-the-library-9/
END:VEVENT
BEGIN:VEVENT
DTSTART;TZID=Pacific/Auckland:20230424T090000
DTEND;TZID=Pacific/Auckland:20230424T160000
DTSTAMP:20260426T034317
CREATED:20240229T213330Z
LAST-MODIFIED:20240229T213330Z
UID:11139-1682326800-1682352000@seatoun.school.nz
SUMMARY:Teacher Only Day. School closed - 9am start
DESCRIPTION:
URL:https://seatoun.school.nz/event/teacher-only-day-school-closed-9am-start/
END:VEVENT
BEGIN:VEVENT
DTSTART;VALUE=DATE:20230424
DTEND;VALUE=DATE:20230425
DTSTAMP:20260426T034317
CREATED:20240229T213330Z
LAST-MODIFIED:20240229T213330Z
UID:11140-1682294400-1682380799@seatoun.school.nz
SUMMARY:Dental Van arrives
DESCRIPTION:
URL:https://seatoun.school.nz/event/dental-van-arrives/
END:VEVENT
BEGIN:VEVENT
DTSTART;TZID=Pacific/Auckland:20230406T090000
DTEND;TZID=Pacific/Auckland:20230406T100000
DTSTAMP:20260426T034317
CREATED:20240229T213329Z
LAST-MODIFIED:20240229T213329Z
UID:11131-1680771600-1680775200@seatoun.school.nz
SUMMARY:Mihi Whakatau?
DESCRIPTION:
URL:https://seatoun.school.nz/event/mihi-whakatau/
END:VEVENT
BEGIN:VEVENT
DTSTART;VALUE=DATE:20230406
DTEND;VALUE=DATE:20230407
DTSTAMP:20260426T034317
CREATED:20240229T213330Z
LAST-MODIFIED:20240229T213330Z
UID:11136-1680739200-1680825599@seatoun.school.nz
SUMMARY:Dental Van departs
DESCRIPTION:
URL:https://seatoun.school.nz/event/dental-van-departs/
END:VEVENT
BEGIN:VEVENT
DTSTART;VALUE=DATE:20230406
DTEND;VALUE=DATE:20230407
DTSTAMP:20260426T034317
CREATED:20240229T213330Z
LAST-MODIFIED:20240229T213330Z
UID:11137-1680739200-1680825599@seatoun.school.nz
SUMMARY:Mihi Whakatau
DESCRIPTION:
URL:https://seatoun.school.nz/event/mihi-whakatau-2/
END:VEVENT
BEGIN:VEVENT
DTSTART;VALUE=DATE:20230406
DTEND;VALUE=DATE:20230407
DTSTAMP:20260426T034317
CREATED:20240229T213330Z
LAST-MODIFIED:20240229T213330Z
UID:11133-1680739200-1680825599@seatoun.school.nz
SUMMARY:End Primary and intermediate Term 1
DESCRIPTION:
URL:https://seatoun.school.nz/event/end-primary-and-intermediate-term-1/
END:VEVENT
BEGIN:VEVENT
DTSTART;VALUE=DATE:20230405
DTEND;VALUE=DATE:20230406
DTSTAMP:20260426T034317
CREATED:20240229T213330Z
LAST-MODIFIED:20240229T213330Z
UID:11134-1680652800-1680739199@seatoun.school.nz
SUMMARY:Kids Lit Quiz at Wellesley College
DESCRIPTION:
URL:https://seatoun.school.nz/event/kids-lit-quiz-at-wellesley-college/
END:VEVENT
BEGIN:VEVENT
DTSTART;VALUE=DATE:20230405
DTEND;VALUE=DATE:20230406
DTSTAMP:20260426T034317
CREATED:20240229T213330Z
LAST-MODIFIED:20240229T213330Z
UID:11132-1680652800-1680739199@seatoun.school.nz
SUMMARY:EZ Football - Seniors 7/8 - Miramar park
DESCRIPTION:
URL:https://seatoun.school.nz/event/ez-football-seniors-7-8-miramar-park/
END:VEVENT
BEGIN:VEVENT
DTSTART;VALUE=DATE:20230404
DTEND;VALUE=DATE:20230405
DTSTAMP:20260426T034317
CREATED:20240229T213330Z
LAST-MODIFIED:20240229T213330Z
UID:11135-1680566400-1680652799@seatoun.school.nz
SUMMARY:Fun School Athletics Day - Y3 - 8
DESCRIPTION:
URL:https://seatoun.school.nz/event/fun-school-athletics-day-y3-8/
END:VEVENT
BEGIN:VEVENT
DTSTART;TZID=Pacific/Auckland:20230403T150000
DTEND;TZID=Pacific/Auckland:20230403T160000
DTSTAMP:20260426T034317
CREATED:20240229T213329Z
LAST-MODIFIED:20240229T213329Z
UID:11129-1680534000-1680537600@seatoun.school.nz
SUMMARY:French Lessons weekly in the Library
DESCRIPTION:
URL:https://seatoun.school.nz/event/french-lessons-weekly-in-the-library-8/
END:VEVENT
BEGIN:VEVENT
DTSTART;VALUE=DATE:20230403
DTEND;VALUE=DATE:20230404
DTSTAMP:20260426T034317
CREATED:20240229T213329Z
LAST-MODIFIED:20240229T213329Z
UID:11130-1680480000-1680566399@seatoun.school.nz
SUMMARY:Week 10
DESCRIPTION:
URL:https://seatoun.school.nz/event/week-10-9/
END:VEVENT
BEGIN:VEVENT
DTSTART;TZID=Pacific/Auckland:20230330T190000
DTEND;TZID=Pacific/Auckland:20230330T210000
DTSTAMP:20260426T034317
CREATED:20240229T213329Z
LAST-MODIFIED:20240229T213329Z
UID:11128-1680202800-1680210000@seatoun.school.nz
SUMMARY:BoT Meeting
DESCRIPTION:
URL:https://seatoun.school.nz/event/bot-meeting-6/
LOCATION:BOT Meeting
END:VEVENT
BEGIN:VEVENT
DTSTART;TZID=Pacific/Auckland:20230329T150000
DTEND;TZID=Pacific/Auckland:20230329T174500
DTSTAMP:20260426T034317
CREATED:20240229T213329Z
LAST-MODIFIED:20240229T213329Z
UID:11126-1680102000-1680111900@seatoun.school.nz
SUMMARY:3 Way Conferences
DESCRIPTION:
URL:https://seatoun.school.nz/event/3-way-conferences-6/
END:VEVENT
BEGIN:VEVENT
DTSTART;VALUE=DATE:20230329
DTEND;VALUE=DATE:20230330
DTSTAMP:20260426T034317
CREATED:20240229T213329Z
LAST-MODIFIED:20240229T213329Z
UID:11124-1680048000-1680134399@seatoun.school.nz
SUMMARY:EZ Football - Y5/6 (Miramar Park)
DESCRIPTION:
URL:https://seatoun.school.nz/event/ez-football-y5-6-miramar-park-2/
END:VEVENT
BEGIN:VEVENT
DTSTART;TZID=Pacific/Auckland:20230328T150000
DTEND;TZID=Pacific/Auckland:20230328T174500
DTSTAMP:20260426T034317
CREATED:20240229T213329Z
LAST-MODIFIED:20240229T213329Z
UID:11123-1680015600-1680025500@seatoun.school.nz
SUMMARY:3 Way Conferences
DESCRIPTION:
URL:https://seatoun.school.nz/event/3-way-conferences-5/
END:VEVENT
BEGIN:VEVENT
DTSTART;VALUE=DATE:20230328
DTEND;VALUE=DATE:20230329
DTSTAMP:20260426T034317
CREATED:20240229T213329Z
LAST-MODIFIED:20240229T213329Z
UID:11125-1679961600-1680047999@seatoun.school.nz
SUMMARY:Zoo visit  - Y 1 and 2
DESCRIPTION:leave at 10:30 maybe even by 10:15 until 2pm.
URL:https://seatoun.school.nz/event/zoo-visit-y-1-and-2/
END:VEVENT
BEGIN:VEVENT
DTSTART;TZID=Pacific/Auckland:20230327T150000
DTEND;TZID=Pacific/Auckland:20230327T160000
DTSTAMP:20260426T034317
CREATED:20240229T213329Z
LAST-MODIFIED:20240229T213329Z
UID:11120-1679929200-1679932800@seatoun.school.nz
SUMMARY:French Lessons weekly in the Library
DESCRIPTION:
URL:https://seatoun.school.nz/event/french-lessons-weekly-in-the-library-7/
END:VEVENT
BEGIN:VEVENT
DTSTART;TZID=Pacific/Auckland:20230327T090000
DTEND;TZID=Pacific/Auckland:20230327T171500
DTSTAMP:20260426T034317
CREATED:20240229T213329Z
LAST-MODIFIED:20240229T213329Z
UID:11122-1679907600-1679937300@seatoun.school.nz
SUMMARY:3 Way Conferences - School operates differently today - only attend for your conference
DESCRIPTION:
URL:https://seatoun.school.nz/event/3-way-conferences-school-operates-differently-today-only-attend-for-your-conference/
END:VEVENT
BEGIN:VEVENT
DTSTART;VALUE=DATE:20230327
DTEND;VALUE=DATE:20230407
DTSTAMP:20260426T034317
CREATED:20240229T213329Z
LAST-MODIFIED:20240229T213329Z
UID:11119-1679875200-1680825599@seatoun.school.nz
SUMMARY:Mobile Dental Van
DESCRIPTION:
URL:https://seatoun.school.nz/event/mobile-dental-van/
END:VEVENT
BEGIN:VEVENT
DTSTART;VALUE=DATE:20230327
DTEND;VALUE=DATE:20230328
DTSTAMP:20260426T034317
CREATED:20240229T213329Z
LAST-MODIFIED:20240229T213329Z
UID:11121-1679875200-1679961599@seatoun.school.nz
SUMMARY:Week 9
DESCRIPTION:
URL:https://seatoun.school.nz/event/week-9-10/
END:VEVENT
BEGIN:VEVENT
DTSTART;TZID=Pacific/Auckland:20230324T090000
DTEND;TZID=Pacific/Auckland:20230324T100000
DTSTAMP:20260426T034317
CREATED:20240229T213329Z
LAST-MODIFIED:20240229T213329Z
UID:11118-1679648400-1679652000@seatoun.school.nz
SUMMARY:Combined Hui Yrs 7/8 and 1/2
DESCRIPTION:
URL:https://seatoun.school.nz/event/combined-hui-yrs-7-8-and-1-2/
END:VEVENT
BEGIN:VEVENT
DTSTART;TZID=Pacific/Auckland:20230323T164500
DTEND;TZID=Pacific/Auckland:20230323T211500
DTSTAMP:20260426T034317
CREATED:20240229T213329Z
LAST-MODIFIED:20240229T213329Z
UID:11117-1679589900-1679606100@seatoun.school.nz
SUMMARY:Disco
DESCRIPTION:Timing is roughly\n4.45-5.45 – Years 1-4\n6.00 – 7.30 Years 5-6\n7.15- 8.45 Years 7-8
URL:https://seatoun.school.nz/event/disco/
END:VEVENT
BEGIN:VEVENT
DTSTART;VALUE=DATE:20230323
DTEND;VALUE=DATE:20230324
DTSTAMP:20260426T034317
CREATED:20240229T213329Z
LAST-MODIFIED:20240229T213329Z
UID:11116-1679529600-1679615999@seatoun.school.nz
SUMMARY:Wheels Day
DESCRIPTION:
URL:https://seatoun.school.nz/event/wheels-day/
END:VEVENT
BEGIN:VEVENT
DTSTART;TZID=Pacific/Auckland:20230321T190000
DTEND;TZID=Pacific/Auckland:20230321T203000
DTSTAMP:20260426T034317
CREATED:20240229T213329Z
LAST-MODIFIED:20240229T213329Z
UID:11115-1679425200-1679430600@seatoun.school.nz
SUMMARY:Keeping our kids safe online and with devices session
DESCRIPTION:
URL:https://seatoun.school.nz/event/keeping-our-kids-safe-online-and-with-devices-session/
END:VEVENT
BEGIN:VEVENT
DTSTART;TZID=Pacific/Auckland:20230320T150000
DTEND;TZID=Pacific/Auckland:20230320T160000
DTSTAMP:20260426T034317
CREATED:20240229T213328Z
LAST-MODIFIED:20240229T213328Z
UID:11113-1679324400-1679328000@seatoun.school.nz
SUMMARY:French Lessons weekly in the Library
DESCRIPTION:
URL:https://seatoun.school.nz/event/french-lessons-weekly-in-the-library-6/
END:VEVENT
BEGIN:VEVENT
DTSTART;VALUE=DATE:20230320
DTEND;VALUE=DATE:20230321
DTSTAMP:20260426T034317
CREATED:20240229T213328Z
LAST-MODIFIED:20240229T213328Z
UID:11114-1679270400-1679356799@seatoun.school.nz
SUMMARY:Week 8
DESCRIPTION:
URL:https://seatoun.school.nz/event/week-8-10/
END:VEVENT
END:VCALENDAR