BEGIN:VCALENDAR
VERSION:2.0
PRODID:-//Seatoun School - ECPv6.8.3//NONSGML v1.0//EN
CALSCALE:GREGORIAN
METHOD:PUBLISH
X-WR-CALNAME:Seatoun School
X-ORIGINAL-URL:https://seatoun.school.nz
X-WR-CALDESC:Events for Seatoun School
REFRESH-INTERVAL;VALUE=DURATION:PT1H
X-Robots-Tag:noindex
X-PUBLISHED-TTL:PT1H
BEGIN:VTIMEZONE
TZID:Pacific/Auckland
BEGIN:STANDARD
TZOFFSETFROM:+1300
TZOFFSETTO:+1200
TZNAME:NZST
DTSTART:20210403T140000
END:STANDARD
BEGIN:DAYLIGHT
TZOFFSETFROM:+1200
TZOFFSETTO:+1300
TZNAME:NZDT
DTSTART:20210925T140000
END:DAYLIGHT
BEGIN:STANDARD
TZOFFSETFROM:+1300
TZOFFSETTO:+1200
TZNAME:NZST
DTSTART:20220402T140000
END:STANDARD
BEGIN:DAYLIGHT
TZOFFSETFROM:+1200
TZOFFSETTO:+1300
TZNAME:NZDT
DTSTART:20220924T140000
END:DAYLIGHT
END:VTIMEZONE
BEGIN:VEVENT
DTSTART;TZID=Pacific/Auckland:20211217T083000
DTEND;TZID=Pacific/Auckland:20211217T163000
DTSTAMP:20260425T044210
CREATED:20240229T213315Z
LAST-MODIFIED:20240229T213315Z
UID:10925-1639729800-1639758600@seatoun.school.nz
SUMMARY:Holiday Programme Operating
DESCRIPTION:
URL:https://seatoun.school.nz/event/holiday-programme-operating/
END:VEVENT
BEGIN:VEVENT
DTSTART;TZID=Pacific/Auckland:20211220T083000
DTEND;TZID=Pacific/Auckland:20211220T163000
DTSTAMP:20260425T044210
CREATED:20240229T213315Z
LAST-MODIFIED:20240229T213315Z
UID:10926-1639989000-1640017800@seatoun.school.nz
SUMMARY:Holiday Programme Operating
DESCRIPTION:
URL:https://seatoun.school.nz/event/holiday-programme-operating-2/
END:VEVENT
BEGIN:VEVENT
DTSTART;TZID=Pacific/Auckland:20211221T083000
DTEND;TZID=Pacific/Auckland:20211221T161500
DTSTAMP:20260425T044210
CREATED:20240229T213315Z
LAST-MODIFIED:20240229T213315Z
UID:10927-1640075400-1640103300@seatoun.school.nz
SUMMARY:Holiday Programme Operating
DESCRIPTION:
URL:https://seatoun.school.nz/event/holiday-programme-operating-3/
END:VEVENT
BEGIN:VEVENT
DTSTART;TZID=Pacific/Auckland:20211223T083000
DTEND;TZID=Pacific/Auckland:20211223T140000
DTSTAMP:20260425T044210
CREATED:20240229T213315Z
LAST-MODIFIED:20240229T213315Z
UID:10928-1640248200-1640268000@seatoun.school.nz
SUMMARY:Holiday Programme Operating
DESCRIPTION:
URL:https://seatoun.school.nz/event/holiday-programme-operating-4/
END:VEVENT
BEGIN:VEVENT
DTSTART;TZID=Pacific/Auckland:20220125T083000
DTEND;TZID=Pacific/Auckland:20220125T163000
DTSTAMP:20260425T044210
CREATED:20240229T213315Z
LAST-MODIFIED:20240229T213315Z
UID:10929-1643099400-1643128200@seatoun.school.nz
SUMMARY:Holiday Programme Operating
DESCRIPTION:
URL:https://seatoun.school.nz/event/holiday-programme-operating-5/
END:VEVENT
BEGIN:VEVENT
DTSTART;TZID=Pacific/Auckland:20220126T083000
DTEND;TZID=Pacific/Auckland:20220126T163000
DTSTAMP:20260425T044210
CREATED:20240229T213315Z
LAST-MODIFIED:20240229T213315Z
UID:10930-1643185800-1643214600@seatoun.school.nz
SUMMARY:Holiday Programme Operating
DESCRIPTION:
URL:https://seatoun.school.nz/event/holiday-programme-operating-6/
END:VEVENT
BEGIN:VEVENT
DTSTART;TZID=Pacific/Auckland:20220127T083000
DTEND;TZID=Pacific/Auckland:20220127T163000
DTSTAMP:20260425T044210
CREATED:20240229T213315Z
LAST-MODIFIED:20240229T213315Z
UID:10931-1643272200-1643301000@seatoun.school.nz
SUMMARY:Holiday Programme Operating
DESCRIPTION:
URL:https://seatoun.school.nz/event/holiday-programme-operating-7/
END:VEVENT
BEGIN:VEVENT
DTSTART;TZID=Pacific/Auckland:20220128T083000
DTEND;TZID=Pacific/Auckland:20220128T163000
DTSTAMP:20260425T044210
CREATED:20240229T213315Z
LAST-MODIFIED:20240229T213315Z
UID:10932-1643358600-1643387400@seatoun.school.nz
SUMMARY:Holiday Programme Operating
DESCRIPTION:
URL:https://seatoun.school.nz/event/holiday-programme-operating-8/
END:VEVENT
BEGIN:VEVENT
DTSTART;VALUE=DATE:20220203
DTEND;VALUE=DATE:20220204
DTSTAMP:20260425T044210
CREATED:20210413T021558Z
LAST-MODIFIED:20240229T213315Z
UID:9540-1643846400-1643932799@seatoun.school.nz
SUMMARY:First day of Term 1\, Meet The Teacher
DESCRIPTION:
URL:https://seatoun.school.nz/event/first-day-of-term-1-meet-the-teacher/
END:VEVENT
BEGIN:VEVENT
DTSTART;VALUE=DATE:20220203
DTEND;VALUE=DATE:20220204
DTSTAMP:20260425T044210
CREATED:20210413T021559Z
LAST-MODIFIED:20240229T213315Z
UID:9542-1643846400-1643932799@seatoun.school.nz
SUMMARY:Week 1
DESCRIPTION:
URL:https://seatoun.school.nz/event/week-1-4/
END:VEVENT
BEGIN:VEVENT
DTSTART;VALUE=DATE:20220204
DTEND;VALUE=DATE:20220205
DTSTAMP:20260425T044210
CREATED:20210413T021558Z
LAST-MODIFIED:20240229T213315Z
UID:9541-1643932800-1644019199@seatoun.school.nz
SUMMARY:Day 1 of normal classes
DESCRIPTION:
URL:https://seatoun.school.nz/event/day-1-of-normal-classes-2/
END:VEVENT
BEGIN:VEVENT
DTSTART;VALUE=DATE:20220207
DTEND;VALUE=DATE:20220208
DTSTAMP:20260425T044210
CREATED:20210413T021559Z
LAST-MODIFIED:20240229T213315Z
UID:9543-1644192000-1644278399@seatoun.school.nz
SUMMARY:Week 2
DESCRIPTION:
URL:https://seatoun.school.nz/event/week-2-5/
END:VEVENT
BEGIN:VEVENT
DTSTART;TZID=Pacific/Auckland:20220207T090000
DTEND;TZID=Pacific/Auckland:20220207T150000
DTSTAMP:20260425T044210
CREATED:20210408T014647Z
LAST-MODIFIED:20240229T213315Z
UID:9511-1644224400-1644246000@seatoun.school.nz
SUMMARY:School closed Waitangi Day observed
DESCRIPTION:
URL:https://seatoun.school.nz/event/school-closed-waitangi-day-observed/
END:VEVENT
BEGIN:VEVENT
DTSTART;TZID=Pacific/Auckland:20220208T093000
DTEND;TZID=Pacific/Auckland:20220208T113000
DTSTAMP:20260425T044210
CREATED:20240229T213315Z
LAST-MODIFIED:20240229T213315Z
UID:10933-1644312600-1644319800@seatoun.school.nz
SUMMARY:Year 3/4 Swimming
DESCRIPTION:
URL:https://seatoun.school.nz/event/year-3-4-swimming/
END:VEVENT
BEGIN:VEVENT
DTSTART;TZID=Pacific/Auckland:20220210T193000
DTEND;TZID=Pacific/Auckland:20220210T204500
DTSTAMP:20260425T044210
CREATED:20240229T213315Z
LAST-MODIFIED:20240229T213315Z
UID:10934-1644521400-1644525900@seatoun.school.nz
SUMMARY:Centenary Committee Meeting
DESCRIPTION:
URL:https://seatoun.school.nz/event/centenary-committee-meeting-2/
END:VEVENT
BEGIN:VEVENT
DTSTART;VALUE=DATE:20220214
DTEND;VALUE=DATE:20220215
DTSTAMP:20260425T044210
CREATED:20210413T021559Z
LAST-MODIFIED:20240229T213316Z
UID:9544-1644796800-1644883199@seatoun.school.nz
SUMMARY:Week 3
DESCRIPTION:
URL:https://seatoun.school.nz/event/week-3-5/
END:VEVENT
BEGIN:VEVENT
DTSTART;TZID=Pacific/Auckland:20220214T193000
DTEND;TZID=Pacific/Auckland:20220214T210000
DTSTAMP:20260425T044210
CREATED:20240229T213316Z
LAST-MODIFIED:20240229T213316Z
UID:10935-1644867000-1644872400@seatoun.school.nz
SUMMARY:FOSS meeting 7:30pm in Staffroom
DESCRIPTION:
URL:https://seatoun.school.nz/event/foss-meeting-730pm-in-staffroom-2/
END:VEVENT
BEGIN:VEVENT
DTSTART;TZID=Pacific/Auckland:20220215T093000
DTEND;TZID=Pacific/Auckland:20220215T113000
DTSTAMP:20260425T044210
CREATED:20240229T213316Z
LAST-MODIFIED:20240229T213316Z
UID:10936-1644917400-1644924600@seatoun.school.nz
SUMMARY:Year 3/4 Swimming
DESCRIPTION:
URL:https://seatoun.school.nz/event/year-3-4-swimming-2/
END:VEVENT
BEGIN:VEVENT
DTSTART;TZID=Pacific/Auckland:20220217T190000
DTEND;TZID=Pacific/Auckland:20220217T210000
DTSTAMP:20260425T044210
CREATED:20240229T213316Z
LAST-MODIFIED:20240229T213316Z
UID:10937-1645124400-1645131600@seatoun.school.nz
SUMMARY:BoT Meeting
DESCRIPTION:
URL:https://seatoun.school.nz/event/bot-meeting-2/
END:VEVENT
BEGIN:VEVENT
DTSTART;VALUE=DATE:20220221
DTEND;VALUE=DATE:20220222
DTSTAMP:20260425T044210
CREATED:20210413T021559Z
LAST-MODIFIED:20240229T213316Z
UID:9545-1645401600-1645487999@seatoun.school.nz
SUMMARY:Week 4
DESCRIPTION:
URL:https://seatoun.school.nz/event/week-4-6/
END:VEVENT
BEGIN:VEVENT
DTSTART;TZID=Pacific/Auckland:20220222T093000
DTEND;TZID=Pacific/Auckland:20220222T113000
DTSTAMP:20260425T044210
CREATED:20240229T213316Z
LAST-MODIFIED:20240229T213316Z
UID:10938-1645522200-1645529400@seatoun.school.nz
SUMMARY:Year 3/4 Swimming
DESCRIPTION:
URL:https://seatoun.school.nz/event/year-3-4-swimming-3/
END:VEVENT
BEGIN:VEVENT
DTSTART;VALUE=DATE:20220228
DTEND;VALUE=DATE:20220301
DTSTAMP:20260425T044210
CREATED:20210413T021559Z
LAST-MODIFIED:20240229T213316Z
UID:9546-1646006400-1646092799@seatoun.school.nz
SUMMARY:Week 5
DESCRIPTION:
URL:https://seatoun.school.nz/event/week-5-6/
END:VEVENT
BEGIN:VEVENT
DTSTART;VALUE=DATE:20220304
DTEND;VALUE=DATE:20220307
DTSTAMP:20260425T044210
CREATED:20210826T004247Z
LAST-MODIFIED:20240229T213316Z
UID:10057-1646352000-1646611199@seatoun.school.nz
SUMMARY:Seatoun School Centenary - CANCELLED -:(
DESCRIPTION:
URL:https://seatoun.school.nz/event/seatoun-school-centenary/
END:VEVENT
BEGIN:VEVENT
DTSTART;TZID=Pacific/Auckland:20220306T090000
DTEND;TZID=Pacific/Auckland:20220306T100000
DTSTAMP:20260425T044210
CREATED:20210826T004247Z
LAST-MODIFIED:20210826T004247Z
UID:10056-1646557200-1646560800@seatoun.school.nz
SUMMARY:Proposed date for Worser Bay Beach Carnival
DESCRIPTION:
URL:https://seatoun.school.nz/event/proposed-date-for-worser-bay-beach-carnival/
END:VEVENT
BEGIN:VEVENT
DTSTART;VALUE=DATE:20220307
DTEND;VALUE=DATE:20220308
DTSTAMP:20260425T044210
CREATED:20210413T021559Z
LAST-MODIFIED:20240229T213316Z
UID:9547-1646611200-1646697599@seatoun.school.nz
SUMMARY:Week 6
DESCRIPTION:
URL:https://seatoun.school.nz/event/week-6-6/
END:VEVENT
BEGIN:VEVENT
DTSTART;VALUE=DATE:20220314
DTEND;VALUE=DATE:20220315
DTSTAMP:20260425T044210
CREATED:20210413T021559Z
LAST-MODIFIED:20240229T213316Z
UID:9548-1647216000-1647302399@seatoun.school.nz
SUMMARY:Week 7
DESCRIPTION:
URL:https://seatoun.school.nz/event/week-7-6/
END:VEVENT
BEGIN:VEVENT
DTSTART;VALUE=DATE:20220321
DTEND;VALUE=DATE:20220322
DTSTAMP:20260425T044210
CREATED:20210413T021559Z
LAST-MODIFIED:20240229T213316Z
UID:9549-1647820800-1647907199@seatoun.school.nz
SUMMARY:Week 8
DESCRIPTION:
URL:https://seatoun.school.nz/event/week-8-6/
END:VEVENT
BEGIN:VEVENT
DTSTART;VALUE=DATE:20220328
DTEND;VALUE=DATE:20220329
DTSTAMP:20260425T044210
CREATED:20210413T021559Z
LAST-MODIFIED:20240229T213316Z
UID:9550-1648425600-1648511999@seatoun.school.nz
SUMMARY:Week 9
DESCRIPTION:
URL:https://seatoun.school.nz/event/week-9-6/
END:VEVENT
BEGIN:VEVENT
DTSTART;VALUE=DATE:20220328
DTEND;VALUE=DATE:20220401
DTSTAMP:20260425T044210
CREATED:20240229T213316Z
LAST-MODIFIED:20240229T213316Z
UID:10943-1648425600-1648771199@seatoun.school.nz
SUMMARY:Athletics Week (Yr 3-8) Teams
DESCRIPTION:
URL:https://seatoun.school.nz/event/athletics-week-yr-3-8-teams/
END:VEVENT
BEGIN:VEVENT
DTSTART;TZID=Pacific/Auckland:20220329T090000
DTEND;TZID=Pacific/Auckland:20220329T143000
DTSTAMP:20260425T044210
CREATED:20240229T213316Z
LAST-MODIFIED:20240229T213316Z
UID:10940-1648544400-1648564200@seatoun.school.nz
SUMMARY:Year 3/4 Athletics
DESCRIPTION:
URL:https://seatoun.school.nz/event/year-3-4-athletics/
END:VEVENT
END:VCALENDAR