BEGIN:VCALENDAR
VERSION:2.0
PRODID:-//Seatoun School - ECPv6.8.3//NONSGML v1.0//EN
CALSCALE:GREGORIAN
METHOD:PUBLISH
X-WR-CALNAME:Seatoun School
X-ORIGINAL-URL:https://seatoun.school.nz
X-WR-CALDESC:Events for Seatoun School
REFRESH-INTERVAL;VALUE=DURATION:PT1H
X-Robots-Tag:noindex
X-PUBLISHED-TTL:PT1H
BEGIN:VTIMEZONE
TZID:Pacific/Auckland
BEGIN:STANDARD
TZOFFSETFROM:+1300
TZOFFSETTO:+1200
TZNAME:NZST
DTSTART:20210403T140000
END:STANDARD
BEGIN:DAYLIGHT
TZOFFSETFROM:+1200
TZOFFSETTO:+1300
TZNAME:NZDT
DTSTART:20210925T140000
END:DAYLIGHT
END:VTIMEZONE
BEGIN:VEVENT
DTSTART;VALUE=DATE:20210204
DTEND;VALUE=DATE:20210205
DTSTAMP:20260424T112623
CREATED:20200525T021953Z
LAST-MODIFIED:20210112T092721Z
UID:8320-1612396800-1612483199@seatoun.school.nz
SUMMARY:First day of Term 1 - meet the teacher day- school operates differently today - students only attend for their interview time
DESCRIPTION:
URL:https://seatoun.school.nz/event/first-day-of-term-1/
END:VEVENT
BEGIN:VEVENT
DTSTART;VALUE=DATE:20210205
DTEND;VALUE=DATE:20210206
DTSTAMP:20260424T112623
CREATED:20201030T101550Z
LAST-MODIFIED:20210112T092721Z
UID:8948-1612483200-1612569599@seatoun.school.nz
SUMMARY:Day 1 of normal classes
DESCRIPTION:
URL:https://seatoun.school.nz/event/day-1-of-normal-classes/
END:VEVENT
BEGIN:VEVENT
DTSTART;TZID=Pacific/Auckland:20210208T080000
DTEND;TZID=Pacific/Auckland:20210208T163000
DTSTAMP:20260424T112623
CREATED:20200525T021953Z
LAST-MODIFIED:20210112T092721Z
UID:8321-1612771200-1612801800@seatoun.school.nz
SUMMARY:Waitangi Day observed today
DESCRIPTION:
URL:https://seatoun.school.nz/event/waitangi-day-observed-today/
END:VEVENT
BEGIN:VEVENT
DTSTART;VALUE=DATE:20210209
DTEND;VALUE=DATE:20210210
DTSTAMP:20260424T112623
CREATED:20201030T101550Z
LAST-MODIFIED:20210112T092721Z
UID:8950-1612828800-1612915199@seatoun.school.nz
SUMMARY:Week 1
DESCRIPTION:
URL:https://seatoun.school.nz/event/week-1-2/
END:VEVENT
BEGIN:VEVENT
DTSTART;TZID=Pacific/Auckland:20210210T100000
DTEND;TZID=Pacific/Auckland:20210210T110000
DTSTAMP:20260424T112623
CREATED:20201208T135549Z
LAST-MODIFIED:20210112T092721Z
UID:9120-1612951200-1612954800@seatoun.school.nz
SUMMARY:Swimming Y3/4
DESCRIPTION:
URL:https://seatoun.school.nz/event/swimming-y3-4/
END:VEVENT
BEGIN:VEVENT
DTSTART;VALUE=DATE:20210215
DTEND;VALUE=DATE:20210216
DTSTAMP:20260424T112623
CREATED:20201030T101551Z
LAST-MODIFIED:20210112T092721Z
UID:8951-1613347200-1613433599@seatoun.school.nz
SUMMARY:Week 2
DESCRIPTION:
URL:https://seatoun.school.nz/event/week-2-2/
END:VEVENT
BEGIN:VEVENT
DTSTART;TZID=Pacific/Auckland:20210217T100000
DTEND;TZID=Pacific/Auckland:20210217T110000
DTSTAMP:20260424T112623
CREATED:20201208T135549Z
LAST-MODIFIED:20210112T092721Z
UID:9121-1613556000-1613559600@seatoun.school.nz
SUMMARY:Swimming Y3/4
DESCRIPTION:
URL:https://seatoun.school.nz/event/swimming-y3-4-2/
END:VEVENT
BEGIN:VEVENT
DTSTART;TZID=Pacific/Auckland:20210218T191500
DTEND;TZID=Pacific/Auckland:20210218T210000
DTSTAMP:20260424T112623
CREATED:20210217T220002Z
LAST-MODIFIED:20210217T220002Z
UID:9329-1613675700-1613682000@seatoun.school.nz
SUMMARY:BoT Meeting
DESCRIPTION:
URL:https://seatoun.school.nz/event/bot-meeting/
LOCATION:Library
END:VEVENT
BEGIN:VEVENT
DTSTART;TZID=Pacific/Auckland:20210220T101500
DTEND;TZID=Pacific/Auckland:20210220T150000
DTSTAMP:20260424T112623
CREATED:20201120T120134Z
LAST-MODIFIED:20210218T220052Z
UID:9069-1613816100-1613833200@seatoun.school.nz
SUMMARY:St Anthony's Bazaar
DESCRIPTION:
URL:https://seatoun.school.nz/event/st-anthonys-bazaar/
END:VEVENT
BEGIN:VEVENT
DTSTART;VALUE=DATE:20210222
DTEND;VALUE=DATE:20210223
DTSTAMP:20260424T112623
CREATED:20201030T101551Z
LAST-MODIFIED:20210222T223322Z
UID:8952-1613952000-1614038399@seatoun.school.nz
SUMMARY:Week 3
DESCRIPTION:
URL:https://seatoun.school.nz/event/week-3-2/
END:VEVENT
BEGIN:VEVENT
DTSTART;TZID=Pacific/Auckland:20210222T090000
DTEND;TZID=Pacific/Auckland:20210222T110000
DTSTAMP:20260424T112623
CREATED:20201209T135751Z
LAST-MODIFIED:20210220T220951Z
UID:9134-1613984400-1613991600@seatoun.school.nz
SUMMARY:Taster Tennis Y3/4
DESCRIPTION:
URL:https://seatoun.school.nz/event/taster-tennis-y3-4/
END:VEVENT
BEGIN:VEVENT
DTSTART;TZID=Pacific/Auckland:20210222T180000
DTEND;TZID=Pacific/Auckland:20210222T200000
DTSTAMP:20260424T112623
CREATED:20201204T125634Z
LAST-MODIFIED:20210221T221511Z
UID:9113-1614016800-1614024000@seatoun.school.nz
SUMMARY:Parent and Student Information Evening and Digital Citizenship
DESCRIPTION:
URL:https://seatoun.school.nz/event/meet-the-teacher-and-digital-citizenship-meeting/
END:VEVENT
BEGIN:VEVENT
DTSTART;VALUE=DATE:20210224
DTEND;VALUE=DATE:20210225
DTSTAMP:20260424T112623
CREATED:20201209T135752Z
LAST-MODIFIED:20210224T224719Z
UID:9136-1614124800-1614211199@seatoun.school.nz
SUMMARY:Tennis Taster Juniors/Y5-6
DESCRIPTION:
URL:https://seatoun.school.nz/event/tennis-taster-juniors-y5-6/
END:VEVENT
BEGIN:VEVENT
DTSTART;TZID=Pacific/Auckland:20210224T100000
DTEND;TZID=Pacific/Auckland:20210224T110000
DTSTAMP:20260424T112623
CREATED:20201208T135549Z
LAST-MODIFIED:20210222T223322Z
UID:9122-1614160800-1614164400@seatoun.school.nz
SUMMARY:Swimming Y3/4
DESCRIPTION:
URL:https://seatoun.school.nz/event/swimming-y3-4-3/
END:VEVENT
BEGIN:VEVENT
DTSTART;TZID=Pacific/Auckland:20210226T090000
DTEND;TZID=Pacific/Auckland:20210226T100000
DTSTAMP:20260424T112623
CREATED:20210217T220003Z
LAST-MODIFIED:20210224T224719Z
UID:9331-1614330000-1614333600@seatoun.school.nz
SUMMARY:Hui - Year 7/8 and 3/4
DESCRIPTION:
URL:https://seatoun.school.nz/event/hui-year-7-8-and-3-4/
END:VEVENT
END:VCALENDAR