BEGIN:VCALENDAR
VERSION:2.0
PRODID:-//Seatoun School - ECPv6.8.3//NONSGML v1.0//EN
CALSCALE:GREGORIAN
METHOD:PUBLISH
X-ORIGINAL-URL:https://seatoun.school.nz
X-WR-CALDESC:Events for Seatoun School
REFRESH-INTERVAL;VALUE=DURATION:PT1H
X-Robots-Tag:noindex
X-PUBLISHED-TTL:PT1H
BEGIN:VTIMEZONE
TZID:Pacific/Auckland
BEGIN:STANDARD
TZOFFSETFROM:+1300
TZOFFSETTO:+1200
TZNAME:NZST
DTSTART:20210403T140000
END:STANDARD
BEGIN:DAYLIGHT
TZOFFSETFROM:+1200
TZOFFSETTO:+1300
TZNAME:NZDT
DTSTART:20210925T140000
END:DAYLIGHT
END:VTIMEZONE
BEGIN:VEVENT
DTSTART;VALUE=DATE:20210702
DTEND;VALUE=DATE:20210703
DTSTAMP:20260424T111048
CREATED:20210414T023158Z
LAST-MODIFIED:20210702T080048Z
UID:9562-1625184000-1625270399@seatoun.school.nz
SUMMARY:Hell Pizza Lunch - Cancelled
DESCRIPTION:
URL:https://seatoun.school.nz/event/hell-pizza-lunch/
END:VEVENT
BEGIN:VEVENT
DTSTART;TZID=Pacific/Auckland:20210702T090000
DTEND;TZID=Pacific/Auckland:20210702T100000
DTSTAMP:20260424T111048
CREATED:20210513T040346Z
LAST-MODIFIED:20210701T074618Z
UID:9712-1625216400-1625220000@seatoun.school.nz
SUMMARY:Year 7 and 8 Hui
DESCRIPTION:
URL:https://seatoun.school.nz/event/year-7-and-8-hui/
END:VEVENT
BEGIN:VEVENT
DTSTART;VALUE=DATE:20210705
DTEND;VALUE=DATE:20210706
DTSTAMP:20260424T111048
CREATED:20201110T110322Z
LAST-MODIFIED:20210705T080146Z
UID:9008-1625443200-1625529599@seatoun.school.nz
SUMMARY:Week 10
DESCRIPTION:
URL:https://seatoun.school.nz/event/week-10-3/
END:VEVENT
BEGIN:VEVENT
DTSTART;TZID=Pacific/Auckland:20210705T180000
DTEND;TZID=Pacific/Auckland:20210705T190000
DTSTAMP:20260424T111048
CREATED:20210627T074557Z
LAST-MODIFIED:20210704T080500Z
UID:9806-1625508000-1625511600@seatoun.school.nz
SUMMARY:Matariki Community Event
DESCRIPTION:
URL:https://seatoun.school.nz/event/matariki-community-event-3/
END:VEVENT
BEGIN:VEVENT
DTSTART;VALUE=DATE:20210706
DTEND;VALUE=DATE:20210707
DTSTAMP:20260424T111048
CREATED:20201209T135755Z
LAST-MODIFIED:20210706T080133Z
UID:9160-1625529600-1625615999@seatoun.school.nz
SUMMARY:Regional Cross Country\, Harcourt Park pp 8th
DESCRIPTION:
URL:https://seatoun.school.nz/event/regional-cross-country-harcourt-park-pp-8th/
END:VEVENT
BEGIN:VEVENT
DTSTART;TZID=Pacific/Auckland:20210707T090000
DTEND;TZID=Pacific/Auckland:20210707T150000
DTSTAMP:20260424T111048
CREATED:20210417T025031Z
LAST-MODIFIED:20210706T080133Z
UID:9667-1625648400-1625670000@seatoun.school.nz
SUMMARY:Hangi Prep Today
DESCRIPTION:
URL:https://seatoun.school.nz/event/hangi-prep-today/
END:VEVENT
BEGIN:VEVENT
DTSTART;VALUE=DATE:20210708
DTEND;VALUE=DATE:20210709
DTSTAMP:20260424T111048
CREATED:20201209T135755Z
LAST-MODIFIED:20210708T080518Z
UID:9161-1625702400-1625788799@seatoun.school.nz
SUMMARY:pp Regional Cross Country
DESCRIPTION:
URL:https://seatoun.school.nz/event/pp-regional-cross-country/
END:VEVENT
BEGIN:VEVENT
DTSTART;TZID=Pacific/Auckland:20210708T090000
DTEND;TZID=Pacific/Auckland:20210708T150000
DTSTAMP:20260424T111048
CREATED:20210417T025031Z
LAST-MODIFIED:20210707T080117Z
UID:9668-1625734800-1625756400@seatoun.school.nz
SUMMARY:Hangi out down today
DESCRIPTION:
URL:https://seatoun.school.nz/event/hangi-out-down-today/
END:VEVENT
BEGIN:VEVENT
DTSTART;VALUE=DATE:20210709
DTEND;VALUE=DATE:20210710
DTSTAMP:20260424T111048
CREATED:20200525T021954Z
LAST-MODIFIED:20210709T082010Z
UID:8329-1625788800-1625875199@seatoun.school.nz
SUMMARY:Last day of Term 2
DESCRIPTION:
URL:https://seatoun.school.nz/event/last-day-of-term-2-2/
END:VEVENT
BEGIN:VEVENT
DTSTART;VALUE=DATE:20210710
DTEND;VALUE=DATE:20210726
DTSTAMP:20260424T111048
CREATED:20200525T021954Z
LAST-MODIFIED:20210725T091648Z
UID:8331-1625875200-1627257599@seatoun.school.nz
SUMMARY:School Holidays
DESCRIPTION:
URL:https://seatoun.school.nz/event/school-holidays-4/
END:VEVENT
BEGIN:VEVENT
DTSTART;VALUE=DATE:20210726
DTEND;VALUE=DATE:20210727
DTSTAMP:20260424T111048
CREATED:20200525T021954Z
LAST-MODIFIED:20210726T091849Z
UID:8330-1627257600-1627343999@seatoun.school.nz
SUMMARY:First day of Term 3
DESCRIPTION:
URL:https://seatoun.school.nz/event/first-day-of-term-3/
END:VEVENT
BEGIN:VEVENT
DTSTART;VALUE=DATE:20210726
DTEND;VALUE=DATE:20210727
DTSTAMP:20260424T111048
CREATED:20200525T021954Z
LAST-MODIFIED:20210726T091849Z
UID:8332-1627257600-1627343999@seatoun.school.nz
SUMMARY:Week 1
DESCRIPTION:
URL:https://seatoun.school.nz/event/week-1/
END:VEVENT
BEGIN:VEVENT
DTSTART;TZID=Pacific/Auckland:20210727T193000
DTEND;TZID=Pacific/Auckland:20210727T203000
DTSTAMP:20260424T111048
CREATED:20210716T084136Z
LAST-MODIFIED:20210726T091849Z
UID:9924-1627414200-1627417800@seatoun.school.nz
SUMMARY:Centenary planning  2021
DESCRIPTION:
URL:https://seatoun.school.nz/event/centenary-planning-2021/
LOCATION:Seatoun School\n59 Burnham Street\, Seatoun\, Wellington 6022\, New Zealand
END:VEVENT
END:VCALENDAR