BEGIN:VCALENDAR
VERSION:2.0
PRODID:-//Seatoun School - ECPv6.8.3//NONSGML v1.0//EN
CALSCALE:GREGORIAN
METHOD:PUBLISH
X-WR-CALNAME:Seatoun School
X-ORIGINAL-URL:https://seatoun.school.nz
X-WR-CALDESC:Events for Seatoun School
REFRESH-INTERVAL;VALUE=DURATION:PT1H
X-Robots-Tag:noindex
X-PUBLISHED-TTL:PT1H
BEGIN:VTIMEZONE
TZID:Pacific/Auckland
BEGIN:STANDARD
TZOFFSETFROM:+1300
TZOFFSETTO:+1200
TZNAME:NZST
DTSTART:20210403T140000
END:STANDARD
BEGIN:DAYLIGHT
TZOFFSETFROM:+1200
TZOFFSETTO:+1300
TZNAME:NZDT
DTSTART:20210925T140000
END:DAYLIGHT
END:VTIMEZONE
BEGIN:VEVENT
DTSTART;VALUE=DATE:20211001
DTEND;VALUE=DATE:20211002
DTSTAMP:20260424T151932
CREATED:20200525T021955Z
LAST-MODIFIED:20240229T213313Z
UID:8341-1633046400-1633132799@seatoun.school.nz
SUMMARY:Last day of Term 3
DESCRIPTION:
URL:https://seatoun.school.nz/event/last-day-of-term-3/
END:VEVENT
BEGIN:VEVENT
DTSTART;VALUE=DATE:20211004
DTEND;VALUE=DATE:20211017
DTSTAMP:20260424T151932
CREATED:20200525T021955Z
LAST-MODIFIED:20240229T213313Z
UID:8342-1633305600-1634428799@seatoun.school.nz
SUMMARY:Holidays
DESCRIPTION:
URL:https://seatoun.school.nz/event/holidays/
END:VEVENT
BEGIN:VEVENT
DTSTART;VALUE=DATE:20211018
DTEND;VALUE=DATE:20211019
DTSTAMP:20260424T151932
CREATED:20200525T021955Z
LAST-MODIFIED:20240229T213313Z
UID:8343-1634515200-1634601599@seatoun.school.nz
SUMMARY:First day of Term 4
DESCRIPTION:
URL:https://seatoun.school.nz/event/first-day-of-term-4/
END:VEVENT
BEGIN:VEVENT
DTSTART;VALUE=DATE:20211018
DTEND;VALUE=DATE:20211019
DTSTAMP:20260424T151932
CREATED:20240229T213313Z
LAST-MODIFIED:20240229T213313Z
UID:10901-1634515200-1634601599@seatoun.school.nz
SUMMARY:ICAS Science
DESCRIPTION:
URL:https://seatoun.school.nz/event/icas-science-3/
END:VEVENT
BEGIN:VEVENT
DTSTART;TZID=Pacific/Auckland:20211018T093000
DTEND;TZID=Pacific/Auckland:20211018T113000
DTSTAMP:20260424T151932
CREATED:20240229T213313Z
LAST-MODIFIED:20240229T213313Z
UID:10900-1634549400-1634556600@seatoun.school.nz
SUMMARY:ICAS Science
DESCRIPTION:
URL:https://seatoun.school.nz/event/icas-science-2/
END:VEVENT
BEGIN:VEVENT
DTSTART;VALUE=DATE:20211019
DTEND;VALUE=DATE:20211020
DTSTAMP:20260424T151932
CREATED:20201215T140920Z
LAST-MODIFIED:20240229T213313Z
UID:9216-1634601600-1634687999@seatoun.school.nz
SUMMARY:LC Scott - school photos
DESCRIPTION:
URL:https://seatoun.school.nz/event/lc-scott-school-photos/
END:VEVENT
BEGIN:VEVENT
DTSTART;VALUE=DATE:20211020
DTEND;VALUE=DATE:20211021
DTSTAMP:20260424T151932
CREATED:20210629T074703Z
LAST-MODIFIED:20240229T213313Z
UID:9832-1634688000-1634774399@seatoun.school.nz
SUMMARY:ICAS Writing
DESCRIPTION:
URL:https://seatoun.school.nz/event/icas-writing/
END:VEVENT
BEGIN:VEVENT
DTSTART;TZID=Pacific/Auckland:20211020T113000
DTEND;TZID=Pacific/Auckland:20211020T131500
DTSTAMP:20260424T151932
CREATED:20240229T213313Z
LAST-MODIFIED:20240229T213313Z
UID:10902-1634729400-1634735700@seatoun.school.nz
SUMMARY:ICAS Writing
DESCRIPTION:
URL:https://seatoun.school.nz/event/icas-writing-2/
END:VEVENT
BEGIN:VEVENT
DTSTART;VALUE=DATE:20211021
DTEND;VALUE=DATE:20211022
DTSTAMP:20260424T151932
CREATED:20240229T213313Z
LAST-MODIFIED:20240229T213313Z
UID:10903-1634774400-1634860799@seatoun.school.nz
SUMMARY:ICAS Spelling
DESCRIPTION:
URL:https://seatoun.school.nz/event/icas-spelling/
END:VEVENT
BEGIN:VEVENT
DTSTART;VALUE=DATE:20211025
DTEND;VALUE=DATE:20211026
DTSTAMP:20260424T151932
CREATED:20201110T110323Z
LAST-MODIFIED:20240229T213313Z
UID:9011-1635120000-1635206399@seatoun.school.nz
SUMMARY:Week 2
DESCRIPTION:
URL:https://seatoun.school.nz/event/week-2-4/
END:VEVENT
BEGIN:VEVENT
DTSTART;TZID=Pacific/Auckland:20211025T080000
DTEND;TZID=Pacific/Auckland:20211025T163000
DTSTAMP:20260424T151932
CREATED:20200525T021955Z
LAST-MODIFIED:20240229T213313Z
UID:8344-1635148800-1635179400@seatoun.school.nz
SUMMARY:Labour Day - school closed today
DESCRIPTION:
URL:https://seatoun.school.nz/event/labour-day-school-closed-today/
END:VEVENT
BEGIN:VEVENT
DTSTART;VALUE=DATE:20211026
DTEND;VALUE=DATE:20211027
DTSTAMP:20260424T151932
CREATED:20240229T213313Z
LAST-MODIFIED:20240229T213313Z
UID:10905-1635206400-1635292799@seatoun.school.nz
SUMMARY:Teacher Only Day - School Closed
DESCRIPTION:
URL:https://seatoun.school.nz/event/teacher-only-day-school-closed-2/
END:VEVENT
BEGIN:VEVENT
DTSTART;TZID=Pacific/Auckland:20211026T080000
DTEND;TZID=Pacific/Auckland:20211026T150000
DTSTAMP:20260424T151932
CREATED:20240229T213313Z
LAST-MODIFIED:20240229T213313Z
UID:10904-1635235200-1635260400@seatoun.school.nz
SUMMARY:Teacher Only Day - School Closed
DESCRIPTION:
URL:https://seatoun.school.nz/event/teacher-only-day-school-closed/
END:VEVENT
BEGIN:VEVENT
DTSTART;VALUE=DATE:20211027
DTEND;VALUE=DATE:20211028
DTSTAMP:20260424T151932
CREATED:20240229T213313Z
LAST-MODIFIED:20240229T213313Z
UID:10906-1635292800-1635379199@seatoun.school.nz
SUMMARY:ICAS Maths
DESCRIPTION:
URL:https://seatoun.school.nz/event/icas-maths-2/
END:VEVENT
BEGIN:VEVENT
DTSTART;TZID=Pacific/Auckland:20211028T093000
DTEND;TZID=Pacific/Auckland:20211028T100000
DTSTAMP:20260424T151932
CREATED:20210526T050316Z
LAST-MODIFIED:20240229T213313Z
UID:9734-1635413400-1635415200@seatoun.school.nz
SUMMARY:New Zealand Shake out - Earthquake drill
DESCRIPTION:
URL:https://seatoun.school.nz/event/new-zealand-shake-out-earthquake-drill/
END:VEVENT
BEGIN:VEVENT
DTSTART;TZID=Pacific/Auckland:20211028T180000
DTEND;TZID=Pacific/Auckland:20211028T190000
DTSTAMP:20260424T151932
CREATED:20240229T213313Z
LAST-MODIFIED:20240229T213313Z
UID:10907-1635444000-1635447600@seatoun.school.nz
SUMMARY:Year 5/6 camp information meeting
DESCRIPTION:
URL:https://seatoun.school.nz/event/year-5-6-camp-information-meeting/
END:VEVENT
BEGIN:VEVENT
DTSTART;TZID=Pacific/Auckland:20211028T190000
DTEND;TZID=Pacific/Auckland:20211028T203000
DTSTAMP:20260424T151932
CREATED:20210730T100614Z
LAST-MODIFIED:20210826T004245Z
UID:9974-1635447600-1635453000@seatoun.school.nz
SUMMARY:Cyber Safety Parenting Course
DESCRIPTION:
URL:https://seatoun.school.nz/event/potential-parenting-course/
END:VEVENT
END:VCALENDAR